BEGIN:VCALENDAR
VERSION:2.0
PRODID:-//Lacombe United Church - ECPv6.15.20//NONSGML v1.0//EN
CALSCALE:GREGORIAN
METHOD:PUBLISH
X-WR-CALNAME:Lacombe United Church
X-ORIGINAL-URL:https://www.lacombeunitedchurch.ca
X-WR-CALDESC:Events for Lacombe United Church
REFRESH-INTERVAL;VALUE=DURATION:PT1H
X-Robots-Tag:noindex
X-PUBLISHED-TTL:PT1H
BEGIN:VTIMEZONE
TZID:America/Edmonton
BEGIN:DAYLIGHT
TZOFFSETFROM:-0700
TZOFFSETTO:-0600
TZNAME:MDT
DTSTART:20250309T090000
END:DAYLIGHT
BEGIN:STANDARD
TZOFFSETFROM:-0600
TZOFFSETTO:-0700
TZNAME:MST
DTSTART:20251102T080000
END:STANDARD
BEGIN:DAYLIGHT
TZOFFSETFROM:-0700
TZOFFSETTO:-0600
TZNAME:MDT
DTSTART:20260308T090000
END:DAYLIGHT
BEGIN:STANDARD
TZOFFSETFROM:-0600
TZOFFSETTO:-0700
TZNAME:MST
DTSTART:20261101T080000
END:STANDARD
BEGIN:DAYLIGHT
TZOFFSETFROM:-0700
TZOFFSETTO:-0600
TZNAME:MDT
DTSTART:20270314T090000
END:DAYLIGHT
BEGIN:STANDARD
TZOFFSETFROM:-0600
TZOFFSETTO:-0700
TZNAME:MST
DTSTART:20271107T080000
END:STANDARD
END:VTIMEZONE
BEGIN:VEVENT
DTSTART;VALUE=DATE:20260423
DTEND;VALUE=DATE:20260427
DTSTAMP:20260424T052407
CREATED:20260422T202057Z
LAST-MODIFIED:20260422T202506Z
UID:11581-1776902400-1777247999@www.lacombeunitedchurch.ca
SUMMARY:Hall - Concerts
DESCRIPTION:
URL:https://www.lacombeunitedchurch.ca/event/hall-concerts/
LOCATION:St. Andrew’s United Church\, 5226 51 Avenue\, Lacombe\, Alberta\, T4L 1J6\, Canada
END:VEVENT
BEGIN:VEVENT
DTSTART;TZID=America/Edmonton:20260424T110000
DTEND;TZID=America/Edmonton:20260424T130000
DTSTAMP:20260424T052407
CREATED:20250818T173500Z
LAST-MODIFIED:20250818T173500Z
UID:10002-1777028400-1777035600@www.lacombeunitedchurch.ca
SUMMARY:Pause Musicale - Sanctuary
DESCRIPTION:
URL:https://www.lacombeunitedchurch.ca/event/pause-musicale-sanctuary-19/
LOCATION:St. Andrew’s United Church\, 5226 51 Avenue\, Lacombe\, Alberta\, T4L 1J6\, Canada
END:VEVENT
BEGIN:VEVENT
DTSTART;TZID=America/Edmonton:20260424T170000
DTEND;TZID=America/Edmonton:20260424T190000
DTSTAMP:20260424T052407
CREATED:20260413T174344Z
LAST-MODIFIED:20260413T174344Z
UID:11470-1777050000-1777057200@www.lacombeunitedchurch.ca
SUMMARY:Youth - Sanctuary
DESCRIPTION:
URL:https://www.lacombeunitedchurch.ca/event/youth-sanctuary/
LOCATION:St. Andrew’s United Church\, 5226 51 Avenue\, Lacombe\, Alberta\, T4L 1J6\, Canada
END:VEVENT
BEGIN:VEVENT
DTSTART;TZID=America/Edmonton:20260424T200000
DTEND;TZID=America/Edmonton:20260424T233000
DTSTAMP:20260424T052407
CREATED:20250929T171627Z
LAST-MODIFIED:20260409T204951Z
UID:10400-1777060800-1777073400@www.lacombeunitedchurch.ca
SUMMARY:Yodel Group - Sanctuary
DESCRIPTION:
URL:https://www.lacombeunitedchurch.ca/event/yodel-group-sanctuary-51/
LOCATION:St. Andrew’s United Church\, 5226 51 Avenue\, Lacombe\, Alberta\, T4L 1J6\, Canada
END:VEVENT
END:VCALENDAR